BEGIN:VCALENDAR
VERSION:2.0
PRODID:-//Feuerwehr Schaan - ECPv4.6.21//NONSGML v1.0//EN
CALSCALE:GREGORIAN
METHOD:PUBLISH
X-WR-CALNAME:Feuerwehr Schaan
X-ORIGINAL-URL:https://old.feuerwehr-schaan.li
X-WR-CALDESC:Veranstaltungen für Feuerwehr Schaan
BEGIN:VEVENT
DTSTART;TZID=Europe/Vaduz:20240201T190000
DTEND;TZID=Europe/Vaduz:20240201T220000
DTSTAMP:20260420T060121
CREATED:20231230T162145Z
LAST-MODIFIED:20240120T162859Z
UID:5980-1706814000-1706824800@old.feuerwehr-schaan.li
SUMMARY:AS Leistungstest
DESCRIPTION:
URL:https://old.feuerwehr-schaan.li/termine/as-leistungstest-3/
CATEGORIES:Atemschutz
END:VEVENT
END:VCALENDAR