BEGIN:VCALENDAR
VERSION:2.0
PRODID:-//Feuerwehr Schaan - ECPv4.6.21//NONSGML v1.0//EN
CALSCALE:GREGORIAN
METHOD:PUBLISH
X-WR-CALNAME:Feuerwehr Schaan
X-ORIGINAL-URL:https://old.feuerwehr-schaan.li
X-WR-CALDESC:Veranstaltungen für Feuerwehr Schaan
BEGIN:VEVENT
DTSTART;TZID=Europe/Vaduz:20230914T190000
DTEND;TZID=Europe/Vaduz:20230914T190000
DTSTAMP:20260424T101243
CREATED:20230129T143819Z
LAST-MODIFIED:20230129T143819Z
UID:5751-1694718000-1694718000@old.feuerwehr-schaan.li
SUMMARY:AS Probe
DESCRIPTION:
URL:https://old.feuerwehr-schaan.li/termine/as-probe-5/
CATEGORIES:Atemschutz
END:VEVENT
END:VCALENDAR