BEGIN:VCALENDAR
VERSION:2.0
PRODID:-//Feuerwehr Schaan - ECPv4.6.21//NONSGML v1.0//EN
CALSCALE:GREGORIAN
METHOD:PUBLISH
X-WR-CALNAME:Feuerwehr Schaan
X-ORIGINAL-URL:https://old.feuerwehr-schaan.li
X-WR-CALDESC:Veranstaltungen für Feuerwehr Schaan
BEGIN:VEVENT
DTSTART;TZID=Europe/Vaduz:20240905T190000
DTEND;TZID=Europe/Vaduz:20240905T220000
DTSTAMP:20260419T162818
CREATED:20231230T162152Z
LAST-MODIFIED:20240120T162905Z
UID:6010-1725562800-1725573600@old.feuerwehr-schaan.li
SUMMARY:AS Probe
DESCRIPTION:
URL:https://old.feuerwehr-schaan.li/termine/as-probe-8/
CATEGORIES:Atemschutz
END:VEVENT
END:VCALENDAR