BEGIN:VCALENDAR
VERSION:2.0
PRODID:-//Feuerwehr Schaan - ECPv4.6.21//NONSGML v1.0//EN
CALSCALE:GREGORIAN
METHOD:PUBLISH
X-WR-CALNAME:Feuerwehr Schaan
X-ORIGINAL-URL:https://old.feuerwehr-schaan.li
X-WR-CALDESC:Veranstaltungen für Feuerwehr Schaan
BEGIN:VEVENT
DTSTART;TZID=Europe/Vaduz:20230429T000000
DTEND;TZID=Europe/Vaduz:20230429T000000
DTSTAMP:20260422T175736
CREATED:20230407T145726Z
LAST-MODIFIED:20230407T145726Z
UID:5841-1682726400-1682726400@old.feuerwehr-schaan.li
SUMMARY:Ausflug aller JFW Land
DESCRIPTION:
URL:https://old.feuerwehr-schaan.li/termine/ausflug-aller-jfw-land/
CATEGORIES:JFW
END:VEVENT
END:VCALENDAR