BEGIN:VCALENDAR
VERSION:2.0
PRODID:-//Feuerwehr Schaan - ECPv4.6.21//NONSGML v1.0//EN
CALSCALE:GREGORIAN
METHOD:PUBLISH
X-WR-CALNAME:Feuerwehr Schaan
X-ORIGINAL-URL:https://old.feuerwehr-schaan.li
X-WR-CALDESC:Veranstaltungen für Feuerwehr Schaan
BEGIN:VEVENT
DTSTART;TZID=Europe/Vaduz:20230612T180000
DTEND;TZID=Europe/Vaduz:20230612T180000
DTSTAMP:20260422T162754
CREATED:20230407T145808Z
LAST-MODIFIED:20230407T145808Z
UID:5845-1686592800-1686592800@old.feuerwehr-schaan.li
SUMMARY:Einsatz Brand
DESCRIPTION:
URL:https://old.feuerwehr-schaan.li/termine/einsatz-brand/
CATEGORIES:JFW
END:VEVENT
END:VCALENDAR