BEGIN:VCALENDAR
VERSION:2.0
PRODID:-//Feuerwehr Schaan - ECPv4.6.21//NONSGML v1.0//EN
CALSCALE:GREGORIAN
METHOD:PUBLISH
X-WR-CALNAME:Feuerwehr Schaan
X-ORIGINAL-URL:https://old.feuerwehr-schaan.li
X-WR-CALDESC:Veranstaltungen für Feuerwehr Schaan
BEGIN:VEVENT
DTSTART;VALUE=DATE:20230626
DTEND;VALUE=DATE:20230703
DTSTAMP:20260422T144343
CREATED:20230129T143819Z
LAST-MODIFIED:20230129T144442Z
UID:5745-1687737600-1688342399@old.feuerwehr-schaan.li
SUMMARY:Fahrdienstwoche
DESCRIPTION:
URL:https://old.feuerwehr-schaan.li/termine/fahrdienstwoche-2/
CATEGORIES:Fahrdienst
END:VEVENT
END:VCALENDAR