BEGIN:VCALENDAR
VERSION:2.0
PRODID:-//Feuerwehr Schaan - ECPv4.6.21//NONSGML v1.0//EN
CALSCALE:GREGORIAN
METHOD:PUBLISH
X-WR-CALNAME:Feuerwehr Schaan
X-ORIGINAL-URL:https://old.feuerwehr-schaan.li
X-WR-CALDESC:Veranstaltungen für Feuerwehr Schaan
BEGIN:VEVENT
DTSTART;TZID=Europe/Vaduz:20240210T000000
DTEND;TZID=Europe/Vaduz:20240211T235900
DTSTAMP:20260420T022816
CREATED:20231230T162147Z
LAST-MODIFIED:20240120T162902Z
UID:5982-1707523200-1707695940@old.feuerwehr-schaan.li
SUMMARY:Fasnacht
DESCRIPTION:
URL:https://old.feuerwehr-schaan.li/termine/fasnacht-2/
CATEGORIES:Veranstaltung
END:VEVENT
END:VCALENDAR