BEGIN:VCALENDAR
VERSION:2.0
PRODID:-//Feuerwehr Schaan - ECPv4.6.21//NONSGML v1.0//EN
CALSCALE:GREGORIAN
METHOD:PUBLISH
X-WR-CALNAME:Feuerwehr Schaan
X-ORIGINAL-URL:https://old.feuerwehr-schaan.li
X-WR-CALDESC:Veranstaltungen für Feuerwehr Schaan
BEGIN:VEVENT
DTSTART;TZID=Europe/Vaduz:20230918T180000
DTEND;TZID=Europe/Vaduz:20230918T180000
DTSTAMP:20260420T070745
CREATED:20230407T145944Z
LAST-MODIFIED:20230407T145944Z
UID:5853-1695060000-1695060000@old.feuerwehr-schaan.li
SUMMARY:Feuerdreieck
DESCRIPTION:
URL:https://old.feuerwehr-schaan.li/termine/feuerdreieck/
CATEGORIES:JFW
END:VEVENT
END:VCALENDAR