BEGIN:VCALENDAR
VERSION:2.0
PRODID:-//Feuerwehr Schaan - ECPv4.6.21//NONSGML v1.0//EN
CALSCALE:GREGORIAN
METHOD:PUBLISH
X-WR-CALNAME:Feuerwehr Schaan
X-ORIGINAL-URL:https://old.feuerwehr-schaan.li
X-WR-CALDESC:Veranstaltungen für Feuerwehr Schaan
BEGIN:VEVENT
DTSTART;TZID=Europe/Vaduz:20240229T190000
DTEND;TZID=Europe/Vaduz:20240229T220000
DTSTAMP:20260419T194610
CREATED:20231230T162148Z
LAST-MODIFIED:20240120T162902Z
UID:5985-1709233200-1709244000@old.feuerwehr-schaan.li
SUMMARY:Führungsunterstützung
DESCRIPTION:
URL:https://old.feuerwehr-schaan.li/termine/fuehrungsunterstuetzung-15/
CATEGORIES:Führungsunterstützung
END:VEVENT
END:VCALENDAR