BEGIN:VCALENDAR
VERSION:2.0
PRODID:-//Feuerwehr Schaan - ECPv4.6.21//NONSGML v1.0//EN
CALSCALE:GREGORIAN
METHOD:PUBLISH
X-WR-CALNAME:Feuerwehr Schaan
X-ORIGINAL-URL:https://old.feuerwehr-schaan.li
X-WR-CALDESC:Veranstaltungen für Feuerwehr Schaan
BEGIN:VEVENT
DTSTART;TZID=Europe/Vaduz:20231002T180000
DTEND;TZID=Europe/Vaduz:20231002T180000
DTSTAMP:20260420T065113
CREATED:20230407T150007Z
LAST-MODIFIED:20230407T150007Z
UID:5855-1696269600-1696269600@old.feuerwehr-schaan.li
SUMMARY:Hebekissen
DESCRIPTION:
URL:https://old.feuerwehr-schaan.li/termine/hebekissen/
CATEGORIES:JFW
END:VEVENT
END:VCALENDAR