BEGIN:VCALENDAR
VERSION:2.0
PRODID:-//Feuerwehr Schaan - ECPv4.6.21//NONSGML v1.0//EN
CALSCALE:GREGORIAN
METHOD:PUBLISH
X-WR-CALNAME:Feuerwehr Schaan
X-ORIGINAL-URL:https://old.feuerwehr-schaan.li
X-WR-CALDESC:Veranstaltungen für Feuerwehr Schaan
BEGIN:VEVENT
DTSTART;TZID=Europe/Vaduz:20231202T190000
DTEND;TZID=Europe/Vaduz:20231202T190000
DTSTAMP:20260420T035638
CREATED:20230129T143818Z
LAST-MODIFIED:20231127T205639Z
UID:5761-1701543600-1701543600@old.feuerwehr-schaan.li
SUMMARY:Jahresabschlussfeier
DESCRIPTION:
URL:https://old.feuerwehr-schaan.li/termine/jahresabschlussfeier/
LOCATION:Landstrasse 15\, Schaan\, Schaan\, 9494\, Liechtenstein
CATEGORIES:Veranstaltung
END:VEVENT
END:VCALENDAR