BEGIN:VCALENDAR
VERSION:2.0
PRODID:-//Feuerwehr Schaan - ECPv4.6.21//NONSGML v1.0//EN
CALSCALE:GREGORIAN
METHOD:PUBLISH
X-WR-CALNAME:Feuerwehr Schaan
X-ORIGINAL-URL:https://old.feuerwehr-schaan.li
X-WR-CALDESC:Veranstaltungen für Feuerwehr Schaan
BEGIN:VEVENT
DTSTART;VALUE=DATE:20230520
DTEND;VALUE=DATE:20230522
DTSTAMP:20260422T160143
CREATED:20230129T143847Z
LAST-MODIFIED:20230320T112549Z
UID:5741-1684540800-1684713599@old.feuerwehr-schaan.li
SUMMARY:Jahrmarkt
DESCRIPTION:
URL:https://old.feuerwehr-schaan.li/termine/jahrmarkt-2/
CATEGORIES:Veranstaltung
END:VEVENT
END:VCALENDAR