BEGIN:VCALENDAR
VERSION:2.0
PRODID:-//Feuerwehr Schaan - ECPv4.6.21//NONSGML v1.0//EN
CALSCALE:GREGORIAN
METHOD:PUBLISH
X-WR-CALNAME:Feuerwehr Schaan
X-ORIGINAL-URL:https://old.feuerwehr-schaan.li
X-WR-CALDESC:Veranstaltungen für Feuerwehr Schaan
BEGIN:VEVENT
DTSTART;TZID=Europe/Vaduz:20240824T190000
DTEND;TZID=Europe/Vaduz:20240824T203000
DTSTAMP:20260421T110052
CREATED:20240120T162909Z
LAST-MODIFIED:20240120T162909Z
UID:6081-1724526000-1724531400@old.feuerwehr-schaan.li
SUMMARY:JFW-Kurs
DESCRIPTION:
URL:https://old.feuerwehr-schaan.li/termine/jfw-kurs/
CATEGORIES:JFW
END:VEVENT
END:VCALENDAR