BEGIN:VCALENDAR
VERSION:2.0
PRODID:-//Feuerwehr Schaan - ECPv4.6.21//NONSGML v1.0//EN
CALSCALE:GREGORIAN
METHOD:PUBLISH
X-WR-CALNAME:Feuerwehr Schaan
X-ORIGINAL-URL:https://old.feuerwehr-schaan.li
X-WR-CALDESC:Veranstaltungen für Feuerwehr Schaan
BEGIN:VEVENT
DTSTART;TZID=Europe/Vaduz:20240118T190000
DTEND;TZID=Europe/Vaduz:20240118T220000
DTSTAMP:20260420T065551
CREATED:20231230T162145Z
LAST-MODIFIED:20240120T162859Z
UID:5978-1705604400-1705615200@old.feuerwehr-schaan.li
SUMMARY:K1-Probenvorbereitung PSA
DESCRIPTION:
URL:https://old.feuerwehr-schaan.li/termine/k1-probenvorbereitung-psa/
CATEGORIES:Kader
END:VEVENT
END:VCALENDAR