BEGIN:VCALENDAR
VERSION:2.0
PRODID:-//Feuerwehr Schaan - ECPv4.6.21//NONSGML v1.0//EN
CALSCALE:GREGORIAN
METHOD:PUBLISH
X-WR-CALNAME:Feuerwehr Schaan
X-ORIGINAL-URL:https://old.feuerwehr-schaan.li
X-WR-CALDESC:Veranstaltungen für Feuerwehr Schaan
BEGIN:VEVENT
DTSTART;TZID=Europe/Vaduz:20231023T174500
DTEND;TZID=Europe/Vaduz:20231023T174500
DTSTAMP:20260420T062336
CREATED:20230407T150029Z
LAST-MODIFIED:20230407T150029Z
UID:5857-1698083100-1698083100@old.feuerwehr-schaan.li
SUMMARY:Knoten und Seilverbindungen
DESCRIPTION:
URL:https://old.feuerwehr-schaan.li/termine/knoten-und-seilverbindungen/
CATEGORIES:JFW
END:VEVENT
END:VCALENDAR