BEGIN:VCALENDAR
VERSION:2.0
PRODID:-//Feuerwehr Schaan - ECPv4.6.21//NONSGML v1.0//EN
CALSCALE:GREGORIAN
METHOD:PUBLISH
X-WR-CALNAME:Feuerwehr Schaan
X-ORIGINAL-URL:https://old.feuerwehr-schaan.li
X-WR-CALDESC:Veranstaltungen für Feuerwehr Schaan
BEGIN:VEVENT
DTSTART;VALUE=DATE:20230826
DTEND;VALUE=DATE:20230828
DTSTAMP:20260420T074039
CREATED:20230407T145855Z
LAST-MODIFIED:20230407T145855Z
UID:5849-1693008000-1693180799@old.feuerwehr-schaan.li
SUMMARY:Kurs (24h) Schaan
DESCRIPTION:
URL:https://old.feuerwehr-schaan.li/termine/kurs-24h-schaan/
CATEGORIES:JFW
END:VEVENT
END:VCALENDAR