BEGIN:VCALENDAR
VERSION:2.0
PRODID:-//Feuerwehr Schaan - ECPv4.6.21//NONSGML v1.0//EN
CALSCALE:GREGORIAN
METHOD:PUBLISH
X-WR-CALNAME:Feuerwehr Schaan
X-ORIGINAL-URL:https://old.feuerwehr-schaan.li
X-WR-CALDESC:Veranstaltungen für Feuerwehr Schaan
BEGIN:VEVENT
DTSTART;TZID=Europe/Vaduz:20240701T190000
DTEND;TZID=Europe/Vaduz:20240701T220000
DTSTAMP:20260419T194354
CREATED:20231230T162151Z
LAST-MODIFIED:20240120T162904Z
UID:6004-1719860400-1719871200@old.feuerwehr-schaan.li
SUMMARY:Löschen
DESCRIPTION:
URL:https://old.feuerwehr-schaan.li/termine/loeschen/
CATEGORIES:Allgemein
END:VEVENT
END:VCALENDAR