BEGIN:VCALENDAR
VERSION:2.0
PRODID:-//Feuerwehr Schaan - ECPv4.6.21//NONSGML v1.0//EN
CALSCALE:GREGORIAN
METHOD:PUBLISH
X-WR-CALNAME:Feuerwehr Schaan
X-ORIGINAL-URL:https://old.feuerwehr-schaan.li
X-WR-CALDESC:Veranstaltungen für Feuerwehr Schaan
BEGIN:VEVENT
DTSTART;TZID=Europe/Vaduz:20240108T190000
DTEND;TZID=Europe/Vaduz:20240108T220000
DTSTAMP:20260420T052542
CREATED:20231230T162145Z
LAST-MODIFIED:20240120T162858Z
UID:5977-1704740400-1704751200@old.feuerwehr-schaan.li
SUMMARY:Material
DESCRIPTION:
URL:https://old.feuerwehr-schaan.li/termine/material-4/
CATEGORIES:Allgemein
END:VEVENT
END:VCALENDAR