BEGIN:VCALENDAR
VERSION:2.0
PRODID:-//Feuerwehr Schaan - ECPv4.6.21//NONSGML v1.0//EN
CALSCALE:GREGORIAN
METHOD:PUBLISH
X-WR-CALNAME:Feuerwehr Schaan
X-ORIGINAL-URL:https://old.feuerwehr-schaan.li
X-WR-CALDESC:Veranstaltungen für Feuerwehr Schaan
BEGIN:VEVENT
DTSTART;TZID=Europe/Vaduz:20230626T180000
DTEND;TZID=Europe/Vaduz:20230626T180000
DTSTAMP:20260422T141352
CREATED:20230407T145828Z
LAST-MODIFIED:20230407T145828Z
UID:5847-1687802400-1687802400@old.feuerwehr-schaan.li
SUMMARY:MS / Sommerplausch
DESCRIPTION:
URL:https://old.feuerwehr-schaan.li/termine/ms-sommerplausch/
CATEGORIES:JFW
END:VEVENT
END:VCALENDAR