BEGIN:VCALENDAR
VERSION:2.0
PRODID:-//Feuerwehr Schaan - ECPv4.6.21//NONSGML v1.0//EN
CALSCALE:GREGORIAN
METHOD:PUBLISH
X-WR-CALNAME:Feuerwehr Schaan
X-ORIGINAL-URL:https://old.feuerwehr-schaan.li
X-WR-CALDESC:Veranstaltungen für Feuerwehr Schaan
BEGIN:VEVENT
DTSTART;TZID=Europe/Vaduz:20230824T190000
DTEND;TZID=Europe/Vaduz:20230824T190000
DTSTAMP:20260422T090145
CREATED:20230129T143819Z
LAST-MODIFIED:20230129T143819Z
UID:5748-1692903600-1692903600@old.feuerwehr-schaan.li
SUMMARY:MS/TLF
DESCRIPTION:
URL:https://old.feuerwehr-schaan.li/termine/ms-tlf-13/
CATEGORIES:TLF/MS
END:VEVENT
END:VCALENDAR