BEGIN:VCALENDAR
VERSION:2.0
PRODID:-//Feuerwehr Schaan - ECPv4.6.21//NONSGML v1.0//EN
CALSCALE:GREGORIAN
METHOD:PUBLISH
X-WR-CALNAME:Feuerwehr Schaan
X-ORIGINAL-URL:https://old.feuerwehr-schaan.li
X-WR-CALDESC:Veranstaltungen für Feuerwehr Schaan
BEGIN:VEVENT
DTSTART;TZID=Europe/Vaduz:20230424T180000
DTEND;TZID=Europe/Vaduz:20230424T180000
DTSTAMP:20260422T174934
CREATED:20230407T145623Z
LAST-MODIFIED:20230407T145623Z
UID:5839-1682359200-1682359200@old.feuerwehr-schaan.li
SUMMARY:Rüstwagen neu
DESCRIPTION:
URL:https://old.feuerwehr-schaan.li/termine/ruestwagen-neu/
CATEGORIES:JFW
END:VEVENT
END:VCALENDAR