BEGIN:VCALENDAR
VERSION:2.0
PRODID:-//Feuerwehr Schaan - ECPv4.6.21//NONSGML v1.0//EN
CALSCALE:GREGORIAN
METHOD:PUBLISH
X-WR-CALNAME:Feuerwehr Schaan
X-ORIGINAL-URL:https://old.feuerwehr-schaan.li
X-WR-CALDESC:Veranstaltungen für Feuerwehr Schaan
BEGIN:VEVENT
DTSTART;TZID=Europe/Vaduz:20240222T190000
DTEND;TZID=Europe/Vaduz:20240222T220000
DTSTAMP:20260419T212432
CREATED:20231230T162148Z
LAST-MODIFIED:20240120T162902Z
UID:5984-1708628400-1708639200@old.feuerwehr-schaan.li
SUMMARY:RW/Ölwehr
DESCRIPTION:
URL:https://old.feuerwehr-schaan.li/termine/rw-oelwehr-9/
CATEGORIES:Oelwehr/RW
END:VEVENT
END:VCALENDAR