BEGIN:VCALENDAR
VERSION:2.0
PRODID:-//Feuerwehr Schaan - ECPv4.6.21//NONSGML v1.0//EN
CALSCALE:GREGORIAN
METHOD:PUBLISH
X-WR-CALNAME:Feuerwehr Schaan
X-ORIGINAL-URL:https://old.feuerwehr-schaan.li
X-WR-CALDESC:Veranstaltungen für Feuerwehr Schaan
BEGIN:VEVENT
DTSTART;TZID=Europe/Vaduz:20240505T000000
DTEND;TZID=Europe/Vaduz:20240505T235900
DTSTAMP:20260419T231025
CREATED:20231230T162149Z
LAST-MODIFIED:20240120T162903Z
UID:5994-1714867200-1714953540@old.feuerwehr-schaan.li
SUMMARY:slowUp Verkehrsdienst
DESCRIPTION:
URL:https://old.feuerwehr-schaan.li/termine/slowup-verkehrsdienst-2/
CATEGORIES:Veranstaltung
END:VEVENT
END:VCALENDAR