BEGIN:VCALENDAR
VERSION:2.0
PRODID:-//Feuerwehr Schaan - ECPv4.6.21//NONSGML v1.0//EN
CALSCALE:GREGORIAN
METHOD:PUBLISH
X-WR-CALNAME:Feuerwehr Schaan
X-ORIGINAL-URL:https://old.feuerwehr-schaan.li
X-WR-CALDESC:Veranstaltungen für Feuerwehr Schaan
BEGIN:VEVENT
DTSTART;TZID=Europe/Vaduz:20230507T000000
DTEND;TZID=Europe/Vaduz:20230507T000000
DTSTAMP:20260422T160637
CREATED:20230129T143847Z
LAST-MODIFIED:20230129T143847Z
UID:5738-1683417600-1683417600@old.feuerwehr-schaan.li
SUMMARY:slowUp Verkehrsdienst
DESCRIPTION:
URL:https://old.feuerwehr-schaan.li/termine/slowup-verkehrsdienst/
CATEGORIES:Veranstaltung
END:VEVENT
END:VCALENDAR