BEGIN:VCALENDAR
VERSION:2.0
PRODID:-//Feuerwehr Schaan - ECPv4.6.21//NONSGML v1.0//EN
CALSCALE:GREGORIAN
METHOD:PUBLISH
X-WR-CALNAME:Feuerwehr Schaan
X-ORIGINAL-URL:https://old.feuerwehr-schaan.li
X-WR-CALDESC:Veranstaltungen für Feuerwehr Schaan
BEGIN:VEVENT
DTSTART;TZID=Europe/Vaduz:20240819T184500
DTEND;TZID=Europe/Vaduz:20240819T203000
DTSTAMP:20260419T140147
CREATED:20240120T162908Z
LAST-MODIFIED:20240120T162908Z
UID:6080-1724093100-1724099400@old.feuerwehr-schaan.li
SUMMARY:Wir bauen ein … (Planken)
DESCRIPTION:
URL:https://old.feuerwehr-schaan.li/termine/wir-bauen-ein-planken/
CATEGORIES:JFW
END:VEVENT
END:VCALENDAR