BEGIN:VCALENDAR
VERSION:2.0
PRODID:-//Feuerwehr Schaan - ECPv4.6.21//NONSGML v1.0//EN
CALSCALE:GREGORIAN
METHOD:PUBLISH
X-WR-CALNAME:Feuerwehr Schaan
X-ORIGINAL-URL:https://old.feuerwehr-schaan.li
X-WR-CALDESC:Veranstaltungen für Feuerwehr Schaan
BEGIN:VEVENT
DTSTART;TZID=Europe/Vaduz:20230515T174500
DTEND;TZID=Europe/Vaduz:20230515T174500
DTSTAMP:20260422T141612
CREATED:20230407T145747Z
LAST-MODIFIED:20230407T145747Z
UID:5843-1684172700-1684172700@old.feuerwehr-schaan.li
SUMMARY:Wir bauen einen ……
DESCRIPTION:
URL:https://old.feuerwehr-schaan.li/termine/wir-bauen-einen/
CATEGORIES:JFW
END:VEVENT
END:VCALENDAR